BEGIN:VCALENDAR
VERSION:2.0
PRODID:-//Chambre de commerce et d’industrie de La Matanie - ECPv6.10.1.1//NONSGML v1.0//EN
CALSCALE:GREGORIAN
METHOD:PUBLISH
X-WR-CALNAME:Chambre de commerce et d’industrie de La Matanie
X-ORIGINAL-URL:https://ccmatane.com
X-WR-CALDESC:Évènements pour Chambre de commerce et d’industrie de La Matanie
REFRESH-INTERVAL;VALUE=DURATION:PT1H
X-Robots-Tag:noindex
X-PUBLISHED-TTL:PT1H
BEGIN:VTIMEZONE
TZID:America/Toronto
BEGIN:DAYLIGHT
TZOFFSETFROM:-0500
TZOFFSETTO:-0400
TZNAME:EDT
DTSTART:20220313T070000
END:DAYLIGHT
BEGIN:STANDARD
TZOFFSETFROM:-0400
TZOFFSETTO:-0500
TZNAME:EST
DTSTART:20221106T060000
END:STANDARD
END:VTIMEZONE
BEGIN:VEVENT
DTSTART;TZID=America/Toronto:20220604T000000
DTEND;TZID=America/Toronto:20220604T000000
DTSTAMP:20260425T151200
CREATED:20220519T054416Z
LAST-MODIFIED:20230126T191911Z
UID:4618-1654300800-1654300800@ccmatane.com
SUMMARY:GALA de l'excellence 2022
DESCRIPTION:Le moment est venu de célébrer les entreprises d’ici! \nCocktail personnalisé\, repas 3 services et présentation des gagnants de la 28e édition. \nDans un décor évoquant la thématique de La Renaissance\, venez célébrer avec nous\, vous divertir et courir la chance de remporter l’un des nombreux prix de présence. \nC’est un rendez-vous!
URL:https://ccmatane.com/evenement/gala-de-lexcellence-2022-2/
LOCATION:Québec
ATTACH;FMTTYPE=image/jpeg:https://ccmatane.com/wp-content/uploads/2022/05/190520221652939056.jpeg
END:VEVENT
END:VCALENDAR